BEGIN:VCALENDAR
VERSION:2.0
PRODID:-//California Widows Sons - ECPv6.15.20//NONSGML v1.0//EN
CALSCALE:GREGORIAN
METHOD:PUBLISH
X-ORIGINAL-URL:https://california.ws
X-WR-CALDESC:Events for California Widows Sons
REFRESH-INTERVAL;VALUE=DURATION:PT1H
X-Robots-Tag:noindex
X-PUBLISHED-TTL:PT1H
BEGIN:VTIMEZONE
TZID:America/Los_Angeles
BEGIN:DAYLIGHT
TZOFFSETFROM:-0800
TZOFFSETTO:-0700
TZNAME:PDT
DTSTART:20270314T100000
END:DAYLIGHT
BEGIN:STANDARD
TZOFFSETFROM:-0700
TZOFFSETTO:-0800
TZNAME:PST
DTSTART:20271107T090000
END:STANDARD
BEGIN:DAYLIGHT
TZOFFSETFROM:-0800
TZOFFSETTO:-0700
TZNAME:PDT
DTSTART:20280312T100000
END:DAYLIGHT
BEGIN:STANDARD
TZOFFSETFROM:-0700
TZOFFSETTO:-0800
TZNAME:PST
DTSTART:20281105T090000
END:STANDARD
BEGIN:DAYLIGHT
TZOFFSETFROM:-0800
TZOFFSETTO:-0700
TZNAME:PDT
DTSTART:20290311T100000
END:DAYLIGHT
BEGIN:STANDARD
TZOFFSETFROM:-0700
TZOFFSETTO:-0800
TZNAME:PST
DTSTART:20291104T090000
END:STANDARD
END:VTIMEZONE
BEGIN:VEVENT
DTSTART;TZID=America/Los_Angeles:20280602T080000
DTEND;TZID=America/Los_Angeles:20280603T120000
DTSTAMP:20260419T121550
CREATED:20240101T090600Z
LAST-MODIFIED:20240724T202206Z
UID:10000007-1843545600-1843646400@california.ws
SUMMARY:California State Gathering
DESCRIPTION:2024 State Gathering\nMay 25 – 27\, 2024\nWidows Sons Ranch\nLos Alamos\, CA\nRegister HERE! \n  \n \n  \nCalifornia Widows Sons 2024 State Gathering
URL:https://california.ws/event/california-state-gathering/2028-06-02/
LOCATION:Widows Sons Ranch\, 990 Bell St\, Los Alamos\, CA\, 93440\, United States
CATEGORIES:State Gathering
ORGANIZER;CN="California Widows Sons Masonic Riders Association":MAILTO:ride@california.ws
END:VEVENT
END:VCALENDAR