BEGIN:VCALENDAR
VERSION:2.0
PRODID:-//California Widows Sons - ECPv6.15.20//NONSGML v1.0//EN
CALSCALE:GREGORIAN
METHOD:PUBLISH
X-WR-CALNAME:California Widows Sons
X-ORIGINAL-URL:https://california.ws
X-WR-CALDESC:Events for California Widows Sons
REFRESH-INTERVAL;VALUE=DURATION:PT1H
X-Robots-Tag:noindex
X-PUBLISHED-TTL:PT1H
BEGIN:VTIMEZONE
TZID:America/Los_Angeles
BEGIN:DAYLIGHT
TZOFFSETFROM:-0800
TZOFFSETTO:-0700
TZNAME:PDT
DTSTART:20230312T100000
END:DAYLIGHT
BEGIN:STANDARD
TZOFFSETFROM:-0700
TZOFFSETTO:-0800
TZNAME:PST
DTSTART:20231105T090000
END:STANDARD
BEGIN:DAYLIGHT
TZOFFSETFROM:-0800
TZOFFSETTO:-0700
TZNAME:PDT
DTSTART:20240310T100000
END:DAYLIGHT
BEGIN:STANDARD
TZOFFSETFROM:-0700
TZOFFSETTO:-0800
TZNAME:PST
DTSTART:20241103T090000
END:STANDARD
BEGIN:DAYLIGHT
TZOFFSETFROM:-0800
TZOFFSETTO:-0700
TZNAME:PDT
DTSTART:20250309T100000
END:DAYLIGHT
BEGIN:STANDARD
TZOFFSETFROM:-0700
TZOFFSETTO:-0800
TZNAME:PST
DTSTART:20251102T090000
END:STANDARD
BEGIN:DAYLIGHT
TZOFFSETFROM:-0800
TZOFFSETTO:-0700
TZNAME:PDT
DTSTART:20260308T100000
END:DAYLIGHT
BEGIN:STANDARD
TZOFFSETFROM:-0700
TZOFFSETTO:-0800
TZNAME:PST
DTSTART:20261101T090000
END:STANDARD
BEGIN:DAYLIGHT
TZOFFSETFROM:-0800
TZOFFSETTO:-0700
TZNAME:PDT
DTSTART:20270314T100000
END:DAYLIGHT
BEGIN:STANDARD
TZOFFSETFROM:-0700
TZOFFSETTO:-0800
TZNAME:PST
DTSTART:20271107T090000
END:STANDARD
END:VTIMEZONE
BEGIN:VEVENT
DTSTART;TZID=America/Los_Angeles:20260605T080000
DTEND;TZID=America/Los_Angeles:20260606T120000
DTSTAMP:20260419T224241
CREATED:20240101T090600Z
LAST-MODIFIED:20240724T202206Z
UID:10000005-1780646400-1780747200@california.ws
SUMMARY:California State Gathering
DESCRIPTION:2024 State Gathering\nMay 25 – 27\, 2024\nWidows Sons Ranch\nLos Alamos\, CA\nRegister HERE! \n  \n \n  \nCalifornia Widows Sons 2024 State Gathering
URL:https://california.ws/event/california-state-gathering/2026-06-05/
LOCATION:Widows Sons Ranch\, 990 Bell St\, Los Alamos\, CA\, 93440\, United States
CATEGORIES:State Gathering
ORGANIZER;CN="California Widows Sons Masonic Riders Association":MAILTO:ride@california.ws
END:VEVENT
BEGIN:VEVENT
DTSTART;TZID=America/Los_Angeles:20250606T080000
DTEND;TZID=America/Los_Angeles:20250607T120000
DTSTAMP:20260419T224241
CREATED:20240101T090600Z
LAST-MODIFIED:20240724T202206Z
UID:10000004-1749196800-1749297600@california.ws
SUMMARY:California State Gathering
DESCRIPTION:2024 State Gathering\nMay 25 – 27\, 2024\nWidows Sons Ranch\nLos Alamos\, CA\nRegister HERE! \n  \n \n  \nCalifornia Widows Sons 2024 State Gathering
URL:https://california.ws/event/california-state-gathering/2025-06-06/
LOCATION:Widows Sons Ranch\, 990 Bell St\, Los Alamos\, CA\, 93440\, United States
CATEGORIES:State Gathering
ORGANIZER;CN="California Widows Sons Masonic Riders Association":MAILTO:ride@california.ws
END:VEVENT
BEGIN:VEVENT
DTSTART;TZID=America/Los_Angeles:20240915T100000
DTEND;TZID=America/Los_Angeles:20240915T180000
DTSTAMP:20260419T224241
CREATED:20240724T203001Z
LAST-MODIFIED:20240724T203001Z
UID:10000010-1726394400-1726423200@california.ws
SUMMARY:Poker Run - Brothers of the 3rd Degree
DESCRIPTION:BROTHERS OF THE 3RD DEGREE\nWIDOWS SONS RIDE \nSUNDAY\, SEPT. 15\, 2024 \nMEET AT OLD HARLEY DAVIDSON DEALERSHIP (REDWOOD) \nKICK STANDS UP 11 AM \nPOKER RUN TO THE ROCK SLIDE \nLUNCH AND RAFFLE \nCONTACT ALLEN CALDWELL
URL:https://california.ws/event/poker-run-brothers-of-the-3rd-degree/
LOCATION:Old Harley Davidso Dealership – Redwood\, 2500 6th St\, Eureka\, CA 95501\, Eureka\, CA\, 95501\, United States
CATEGORIES:Chapter Ride,Fundraiser
ORGANIZER;CN="Brothers of the 3rd Degree":MAILTO:brothers@california.ws
END:VEVENT
BEGIN:VEVENT
DTSTART;TZID=America/Los_Angeles:20240620T080000
DTEND;TZID=America/Los_Angeles:20240621T120000
DTSTAMP:20260419T224241
CREATED:20240101T090600Z
LAST-MODIFIED:20240724T202206Z
UID:10000009-1718870400-1718971200@california.ws
SUMMARY:California State Gathering
DESCRIPTION:2024 State Gathering\nMay 25 – 27\, 2024\nWidows Sons Ranch\nLos Alamos\, CA\nRegister HERE! \n  \n \n  \nCalifornia Widows Sons 2024 State Gathering
URL:https://california.ws/event/california-state-gathering/2024-06-20/
LOCATION:Widows Sons Ranch\, 990 Bell St\, Los Alamos\, CA\, 93440\, United States
CATEGORIES:State Gathering
ORGANIZER;CN="California Widows Sons Masonic Riders Association":MAILTO:ride@california.ws
END:VEVENT
BEGIN:VEVENT
DTSTART;TZID=America/Los_Angeles:20240525T080000
DTEND;TZID=America/Los_Angeles:20240528T120000
DTSTAMP:20260419T224241
CREATED:20240101T090600Z
LAST-MODIFIED:20240724T202206Z
UID:10000001-1716624000-1716897600@california.ws
SUMMARY:California State Gathering
DESCRIPTION:2024 State Gathering\nMay 25 – 27\, 2024\nWidows Sons Ranch\nLos Alamos\, CA\nRegister HERE! \n  \n \n  \nCalifornia Widows Sons 2024 State Gathering
URL:https://california.ws/event/california-state-gathering/2024-05-25/
LOCATION:Widows Sons Ranch\, 990 Bell St\, Los Alamos\, CA\, 93440\, United States
CATEGORIES:State Gathering
ORGANIZER;CN="California Widows Sons Masonic Riders Association":MAILTO:ride@california.ws
END:VEVENT
BEGIN:VEVENT
DTSTART;TZID=America/Los_Angeles:20240104T190000
DTEND;TZID=America/Los_Angeles:20240104T200000
DTSTAMP:20260419T224241
CREATED:20231214T092345Z
LAST-MODIFIED:20240104T093244Z
UID:10000002-1704394800-1704398400@california.ws
SUMMARY:2024 January Presidents Council Meeting
DESCRIPTION:
URL:https://california.ws/event/2024-jan-presidents-council-meeting/
LOCATION:CA
CATEGORIES:PC Meeting
ORGANIZER;CN="California Widows Sons Masonic Riders Association":MAILTO:ride@california.ws
END:VEVENT
END:VCALENDAR