BEGIN:VCALENDAR
VERSION:2.0
PRODID:-//California Widows Sons - ECPv6.15.20//NONSGML v1.0//EN
CALSCALE:GREGORIAN
METHOD:PUBLISH
X-WR-CALNAME:California Widows Sons
X-ORIGINAL-URL:https://california.ws
X-WR-CALDESC:Events for California Widows Sons
REFRESH-INTERVAL;VALUE=DURATION:PT1H
X-Robots-Tag:noindex
X-PUBLISHED-TTL:PT1H
BEGIN:VTIMEZONE
TZID:America/Los_Angeles
BEGIN:DAYLIGHT
TZOFFSETFROM:-0800
TZOFFSETTO:-0700
TZNAME:PDT
DTSTART:20230312T100000
END:DAYLIGHT
BEGIN:STANDARD
TZOFFSETFROM:-0700
TZOFFSETTO:-0800
TZNAME:PST
DTSTART:20231105T090000
END:STANDARD
BEGIN:DAYLIGHT
TZOFFSETFROM:-0800
TZOFFSETTO:-0700
TZNAME:PDT
DTSTART:20240310T100000
END:DAYLIGHT
BEGIN:STANDARD
TZOFFSETFROM:-0700
TZOFFSETTO:-0800
TZNAME:PST
DTSTART:20241103T090000
END:STANDARD
BEGIN:DAYLIGHT
TZOFFSETFROM:-0800
TZOFFSETTO:-0700
TZNAME:PDT
DTSTART:20250309T100000
END:DAYLIGHT
BEGIN:STANDARD
TZOFFSETFROM:-0700
TZOFFSETTO:-0800
TZNAME:PST
DTSTART:20251102T090000
END:STANDARD
END:VTIMEZONE
BEGIN:VEVENT
DTSTART;TZID=America/Los_Angeles:20240104T190000
DTEND;TZID=America/Los_Angeles:20240104T200000
DTSTAMP:20260419T140732
CREATED:20231214T092345Z
LAST-MODIFIED:20240104T093244Z
UID:10000002-1704394800-1704398400@california.ws
SUMMARY:2024 January Presidents Council Meeting
DESCRIPTION:
URL:https://california.ws/event/2024-jan-presidents-council-meeting/
CATEGORIES:PC Meeting
ORGANIZER;CN="California Widows Sons Masonic Riders Association":MAILTO:ride@california.ws
END:VEVENT
END:VCALENDAR